BEGIN:VCALENDAR
VERSION:2.0
PRODID:spatie/icalendar-generator
DESCRIPTION:Veranstaltungen von StadtrandNachrichten
X-WR-CALDESC:Veranstaltungen von StadtrandNachrichten
REFRESH-INTERVAL;VALUE=DURATION:PT1440M
X-PUBLISHED-TTL:PT1440M
BEGIN:VTIMEZONE
TZID:Etc/GMT-2
BEGIN:STANDARD
DTSTART:20240526T193000Z
TZOFFSETFROM:+0200
TZOFFSETTO:+0200
END:STANDARD
END:VTIMEZONE
BEGIN:VTIMEZONE
TZID:UTC
BEGIN:STANDARD
DTSTART:20250726T030132Z
TZOFFSETFROM:+0000
TZOFFSETTO:+0000
END:STANDARD
END:VTIMEZONE
BEGIN:VEVENT
UID:119-113
DTSTAMP:20260422T030132Z
SUMMARY:40 Jahre Theatergruppe Schattenlichter: \"There is no Escape\" (\"E
 s gibt keinen Ausweg\") von Sabine Hrach
LOCATION:Gemeindehaus der Ev. Paulus-Kirchengemeinde Teltower Damm 6  Berli
 n
ORGANIZER;CN=Daniela von Treuenfels:MAILTO:treuenfels@stadtrand-nachrichten
 .de
RRULE:FREQ=DAILY;UNTIL=20250222T000000Z
DTSTART;TZID=Etc/GMT-2:20250220T193000
DTEND;TZID=Etc/GMT-2:20250220T220000
X-ALT-DESC;FMTTYPE=TEXT/HTML:Im Jubiläumsjahr zeigt die Theatergruppe Scha
 ttenlichter mal wieder einen Krimi – ein modernes Werk der Lehrerin Sabi
 ne Hrach: „There is no Escape – Es gibt keinen Ausweg“. In diesem St
 ück befinden sich sechs sehr unterschiedliche Charaktere gemeinsam in ein
 em „Escape Room“. Wie bei solchen Räumen üblich\, geben die Spielreg
 eln vor\, dass die im Raum versteckten&amp;hellip\;
CATEGORIES:Bühne
URL;VALUE=URI:https://stadtrand-nachrichten.de/mc-events/40-jahre-theatergr
 uppe-schattenlichter-there-is-no-escape-es-gibt-keinen-ausweg-von-sabine-h
 rach/?mc_id=119
END:VEVENT
END:VCALENDAR