BEGIN:VCALENDAR
VERSION:2.0
PRODID:spatie/icalendar-generator
DESCRIPTION:Veranstaltungen von StadtrandNachrichten
X-WR-CALDESC:Veranstaltungen von StadtrandNachrichten
REFRESH-INTERVAL;VALUE=DURATION:PT1440M
X-PUBLISHED-TTL:PT1440M
BEGIN:VTIMEZONE
TZID:Etc/GMT-2
BEGIN:STANDARD
DTSTART:20250502T170000Z
TZOFFSETFROM:+0200
TZOFFSETTO:+0200
END:STANDARD
END:VTIMEZONE
BEGIN:VTIMEZONE
TZID:UTC
BEGIN:STANDARD
DTSTART:20250727T062143Z
TZOFFSETFROM:+0000
TZOFFSETTO:+0000
END:STANDARD
END:VTIMEZONE
BEGIN:VEVENT
UID:1197-921
DTSTAMP:20260423T062143Z
SUMMARY:Rauchfreikurs
LOCATION:Suchtberatung der Caritas Suchtberatung der Caritas Königsberger 
 Straße 11 Berlin Lichterfelde 12207
ORGANIZER;CN=Daniela von Treuenfels:MAILTO:treuenfels@stadtrand-nachrichten
 .de
RRULE:FREQ=WEEKLY;UNTIL=20260310T000000Z
DTSTART;TZID=Etc/GMT-2:20260127T170000
DTEND;TZID=Etc/GMT-2:20260127T183000
X-ALT-DESC;FMTTYPE=TEXT/HTML:Ab dem 27.01.2026 findet in der Integrativen S
 uchtberatungsstelle der Caritas in Steglitz-Zehlendorf\, Königsbergerstra
 ße 11\, wieder ein Rauchfreikurs statt. Der Kurs wird immer dienstags\, i
 n der Zeit von 17 Uhr bis 18:30 Uhr an 7 aufeinanderfolgenden Terminen in 
 der Beratungsstelle stattfinden. Wenn Sie Interesse haben\, nehmen Sie ger
 ne Kontakt zu unserer Beratungsstelle auf. Anmeldungen dafür gerne&amp;hellip
 \;
CATEGORIES:Beteiligung
URL;VALUE=URI:https://stadtrand-nachrichten.de/mc-events/rauchfreikurs-16/?
 mc_id=1197
END:VEVENT
END:VCALENDAR