BEGIN:VCALENDAR
VERSION:2.0
PRODID:spatie/icalendar-generator
DESCRIPTION:Veranstaltungen von StadtrandNachrichten
X-WR-CALDESC:Veranstaltungen von StadtrandNachrichten
REFRESH-INTERVAL;VALUE=DURATION:PT1440M
X-PUBLISHED-TTL:PT1440M
BEGIN:VTIMEZONE
TZID:Etc/GMT-2
BEGIN:STANDARD
DTSTART:20240128T170000Z
TZOFFSETFROM:+0200
TZOFFSETTO:+0200
END:STANDARD
END:VTIMEZONE
BEGIN:VTIMEZONE
TZID:UTC
BEGIN:STANDARD
DTSTART:20250725T204833Z
TZOFFSETFROM:+0000
TZOFFSETTO:+0000
END:STANDARD
END:VTIMEZONE
BEGIN:VEVENT
UID:13-12
DTSTAMP:20260421T204833Z
SUMMARY:Einfach miteinander - Mosaik Begegnungswerkstatt
LOCATION:
ORGANIZER;CN=Daniela von Treuenfels:MAILTO:treuenfels@stadtrand-nachrichten
 .de
DTSTART;TZID=Etc/GMT-2:20241024T170000
DTEND;TZID=Etc/GMT-2:20241024T200000
X-ALT-DESC;FMTTYPE=TEXT/HTML:In der Mosaik Begegnungswerkstatt „Einfach m
 iteinander“ probieren wir spielerisch aus\, wie wir – auch jenseits vo
 n Sprache – wieder miteinander gut in Austausch kommen können. Im erste
 n Teil der Begegnungswerkstatt liegt der Fokus auf der Sensibilisierung de
 r eigenen Wahrnehmung mit experimentellen Formaten. Im zweiten Teil setzen
  wir uns dialogisch mit der eigenen Haltung zur besser&amp;hellip\;
CATEGORIES:Beteiligung
URL;VALUE=URI:https://stadtrand-nachrichten.de/mc-events/einfach-miteinande
 r-mosaik-begegnungswerkstatt-2/?mc_id=13
END:VEVENT
END:VCALENDAR