BEGIN:VCALENDAR
VERSION:2.0
PRODID:spatie/icalendar-generator
DESCRIPTION:Veranstaltungen von StadtrandNachrichten
X-WR-CALDESC:Veranstaltungen von StadtrandNachrichten
REFRESH-INTERVAL;VALUE=DURATION:PT1440M
X-PUBLISHED-TTL:PT1440M
BEGIN:VTIMEZONE
TZID:Etc/GMT-2
BEGIN:STANDARD
DTSTART:20240715T103000Z
TZOFFSETFROM:+0200
TZOFFSETTO:+0200
END:STANDARD
END:VTIMEZONE
BEGIN:VTIMEZONE
TZID:UTC
BEGIN:STANDARD
DTSTART:20250725T171055Z
TZOFFSETFROM:+0000
TZOFFSETTO:+0000
END:STANDARD
END:VTIMEZONE
BEGIN:VEVENT
UID:134-123
DTSTAMP:20260421T171055Z
SUMMARY:FROSCHKÖNIG
LOCATION:Schwartzsche Villa Grunewaldstraße 55  Berlin  12165
ORGANIZER;CN=Daniela von Treuenfels:MAILTO:treuenfels@stadtrand-nachrichten
 .de
DTSTART;TZID=Etc/GMT-2:20250411T103000
DTEND;TZID=Etc/GMT-2:20250411T111500
X-ALT-DESC;FMTTYPE=TEXT/HTML:FROSCHKÖNIG (The frog king / El Rey Rana) The
 ater im Globus / von Jost Braun nach den Brüdern Grimm Sympathisches Figu
 renschauspiel für wache Kinder und muntere Erwachsene Die Puppen- und Sch
 auspielerin Hanne Braun agiert mit lustigen Requisiten\, faltbaren Bühnen
 elementen und großen\, originellen\, offen geführten Ganzfiguren - einem
  sympathischen Frosch\, der mit den tollsten Kunststückchen für&amp;hellip\;
CATEGORIES:Bühne,  Kinder &amp; Familie
URL;VALUE=URI:https://stadtrand-nachrichten.de/mc-events/froschkoenig/?mc_i
 d=134
END:VEVENT
END:VCALENDAR