BEGIN:VCALENDAR
VERSION:2.0
PRODID:spatie/icalendar-generator
DESCRIPTION:Veranstaltungen von StadtrandNachrichten
X-WR-CALDESC:Veranstaltungen von StadtrandNachrichten
REFRESH-INTERVAL;VALUE=DURATION:PT1440M
X-PUBLISHED-TTL:PT1440M
BEGIN:VTIMEZONE
TZID:Etc/GMT-2
BEGIN:STANDARD
DTSTART:20250529T183000Z
TZOFFSETFROM:+0200
TZOFFSETTO:+0200
END:STANDARD
END:VTIMEZONE
BEGIN:VTIMEZONE
TZID:UTC
BEGIN:STANDARD
DTSTART:20250724T045733Z
TZOFFSETFROM:+0000
TZOFFSETTO:+0000
END:STANDARD
END:VTIMEZONE
BEGIN:VEVENT
UID:1423-1026
DTSTAMP:20260420T045733Z
SUMMARY:Sprachkurs: ENGLISH FOR YOU
LOCATION:Ratswaage Lankwitz Charlottenstraße 64  Berlin Lankwitz 12247
ORGANIZER;CN=Daniela von Treuenfels:MAILTO:treuenfels@stadtrand-nachrichten
 .de
DTSTART;TZID=Etc/GMT-2:20260223T183000
DTEND;TZID=Etc/GMT-2:20260223T200000
X-ALT-DESC;FMTTYPE=TEXT/HTML:Englisch für Freizeit und Beruf. Der Englisch
 kurs - mit der Dozentin für Englisch als Fremdsprache Marina Roncoroni - 
 für alle (Wieder-) Einsteigerinnen bietet Gelegenheit\, im kleinen Kreis 
 Ihre Sprachfertigkeiten zu verbessern\, Grundlagen der englischen Grammati
 k zu wiederholen sowie Hörverstehen und Schreiben zu üben. Der Kurs umfa
 sst 10 Unterrichtseinheiten à 1\,5 Stunden. Der Einstieg ist fortlaufend&amp;
 hellip\;
CATEGORIES:Bildung
URL;VALUE=URI:https://stadtrand-nachrichten.de/mc-events/sprachkurs-english
 -for-you/?mc_id=1423
END:VEVENT
END:VCALENDAR