BEGIN:VCALENDAR
VERSION:2.0
PRODID:spatie/icalendar-generator
DESCRIPTION:Veranstaltungen von StadtrandNachrichten
X-WR-CALDESC:Veranstaltungen von StadtrandNachrichten
REFRESH-INTERVAL;VALUE=DURATION:PT1440M
X-PUBLISHED-TTL:PT1440M
BEGIN:VTIMEZONE
TZID:Etc/GMT-2
BEGIN:STANDARD
DTSTART:20250502T190000Z
TZOFFSETFROM:+0200
TZOFFSETTO:+0200
END:STANDARD
END:VTIMEZONE
BEGIN:VTIMEZONE
TZID:UTC
BEGIN:STANDARD
DTSTART:20250723T144716Z
TZOFFSETFROM:+0000
TZOFFSETTO:+0000
END:STANDARD
END:VTIMEZONE
BEGIN:VEVENT
UID:1440-1033
DTSTAMP:20260419T144716Z
SUMMARY:Special-Popcornkino für Erwachsene anlässlich des Holocaust-Geden
 ktages
LOCATION:Gottfried-Benn-Bibliothek Nentershäuser Platz 1  Berlin Deutschla
 nd
ORGANIZER;CN=Daniela von Treuenfels:MAILTO:treuenfels@stadtrand-nachrichten
 .de
DTSTART;TZID=Etc/GMT-2:20260127T190000
DTEND;TZID=Etc/GMT-2:20260127T200000
X-ALT-DESC;FMTTYPE=TEXT/HTML:Anlässlich des „Tages des Gedenkens an die 
 Opfer des Nationalsozialismus“\, der jährlich am 27.1. stattfindet\, l
 ädt die Gottfried-Benn-Bibliothek zu einem Erwachsenen-Special des seit e
 inigen Monaten etablierten Popcorn-Kinos in den Räumen der Bibliothek ein
 . Gezeigt wird eine Tragikomödie aus dem Jahr 2024\, die zwei ungleiche C
 ousins aus den USA auf ihre Reise nach Polen und in&amp;hellip\;
CATEGORIES:Bildung
URL;VALUE=URI:https://stadtrand-nachrichten.de/mc-events/special-popcornkin
 o-fuer-erwachsene-anlaesslich-des-holocaust-gedenktages/?mc_id=1440
END:VEVENT
END:VCALENDAR