BEGIN:VCALENDAR
VERSION:2.0
PRODID:spatie/icalendar-generator
DESCRIPTION:Veranstaltungen von StadtrandNachrichten
X-WR-CALDESC:Veranstaltungen von StadtrandNachrichten
REFRESH-INTERVAL;VALUE=DURATION:PT1440M
X-PUBLISHED-TTL:PT1440M
BEGIN:VTIMEZONE
TZID:Etc/GMT-2
BEGIN:STANDARD
DTSTART:20250511T170000Z
TZOFFSETFROM:+0200
TZOFFSETTO:+0200
END:STANDARD
END:VTIMEZONE
BEGIN:VTIMEZONE
TZID:UTC
BEGIN:STANDARD
DTSTART:20250725T032829Z
TZOFFSETFROM:+0000
TZOFFSETTO:+0000
END:STANDARD
END:VTIMEZONE
BEGIN:VEVENT
UID:1458-1051
DTSTAMP:20260421T032829Z
SUMMARY:Vernissage zur Ausstellung „SITZEN - das Spiel mit dem Gleichgewi
 cht“
LOCATION:Ingeborg-Drewitz-Bibliothek (Das Schloß\, 3.OG) Grunewaldstr. 3  
 Berlin
ORGANIZER;CN=Daniela von Treuenfels:MAILTO:treuenfels@stadtrand-nachrichten
 .de
DTSTART;TZID=Etc/GMT-2:20260205T170000
DTEND;TZID=Etc/GMT-2:20260205T180000
X-ALT-DESC;FMTTYPE=TEXT/HTML:Die Ausstellung “SITZEN _ Das Spiel mit dem 
 Gleichgewicht“ zeigt bisher unbekannte Fotografien von Elfriede Hengsten
 berg (1892-1992) aus ihrer \"Arbeit am Sitzen\" mit Kindern\, Jugendlichen
  und Erwachsenen. Mit viel Empathie und Kreativität konnte sie den natür
 lichen Bewegungsdrang von Kindern in förderliche Bahnen lenken\, um ihre 
 Körperwahrnehmung und geistige Entwicklung zu unterstützen. Eintritt: fr
 ei. Ohne Voranmeldung.
CATEGORIES:Bildung
URL;VALUE=URI:https://stadtrand-nachrichten.de/mc-events/vernissage-zur-aus
 stellung-sitzen-das-spiel-mit-dem-gleichgewicht/?mc_id=1458
END:VEVENT
END:VCALENDAR