BEGIN:VCALENDAR
VERSION:2.0
PRODID:spatie/icalendar-generator
DESCRIPTION:Veranstaltungen von StadtrandNachrichten
X-WR-CALDESC:Veranstaltungen von StadtrandNachrichten
REFRESH-INTERVAL;VALUE=DURATION:PT1440M
X-PUBLISHED-TTL:PT1440M
BEGIN:VTIMEZONE
TZID:Etc/GMT-2
BEGIN:STANDARD
DTSTART:20250602T190000Z
TZOFFSETFROM:+0200
TZOFFSETTO:+0200
END:STANDARD
END:VTIMEZONE
BEGIN:VTIMEZONE
TZID:UTC
BEGIN:STANDARD
DTSTART:20250723T163727Z
TZOFFSETFROM:+0000
TZOFFSETTO:+0000
END:STANDARD
END:VTIMEZONE
BEGIN:VEVENT
UID:1470-1063
DTSTAMP:20260419T163727Z
SUMMARY:Musikalische Lesung: Stimmen der Ukraine
LOCATION:Nachbarschaftsheim Schöneberg Holsteinische Straße 30  Berlin Fr
 iedenau 12161
ORGANIZER;CN=Daniela von Treuenfels:MAILTO:treuenfels@stadtrand-nachrichten
 .de
DTSTART;TZID=Etc/GMT-2:20260227T190000
DTEND;TZID=Etc/GMT-2:20260227T200000
X-ALT-DESC;FMTTYPE=TEXT/HTML:Seit dem Februar 2022 ist die Welt eine andere
 . Auch hier spüren wir die Auswirkungen des von Russland entfesselten Kri
 eges gegen sein Nachbarland. Doch was wissen wir wirklich über die Ukrain
 e - abseits der täglichen Schreckensmeldungen? Die Schauspieler Jan Upleg
 ger und Mareile Metzner nehmen Sie mit auf einen literarischen Streifzug d
 urch die Ukraine. Musikalisch stimmen&amp;hellip\;
CATEGORIES:Literatur
URL;VALUE=URI:https://stadtrand-nachrichten.de/mc-events/musikalische-lesun
 g-stimmen-der-ukraine/?mc_id=1470
END:VEVENT
END:VCALENDAR