BEGIN:VCALENDAR
VERSION:2.0
PRODID:spatie/icalendar-generator
DESCRIPTION:Veranstaltungen von StadtrandNachrichten
X-WR-CALDESC:Veranstaltungen von StadtrandNachrichten
REFRESH-INTERVAL;VALUE=DURATION:PT1440M
X-PUBLISHED-TTL:PT1440M
BEGIN:VTIMEZONE
TZID:Etc/GMT-2
BEGIN:STANDARD
DTSTART:20240810T183000Z
TZOFFSETFROM:+0200
TZOFFSETTO:+0200
END:STANDARD
END:VTIMEZONE
BEGIN:VTIMEZONE
TZID:UTC
BEGIN:STANDARD
DTSTART:20250725T231342Z
TZOFFSETFROM:+0000
TZOFFSETTO:+0000
END:STANDARD
END:VTIMEZONE
BEGIN:VEVENT
UID:221-175
DTSTAMP:20260421T231342Z
SUMMARY:Lesung \"Spur der Gier\" mit Vera Lohkamp in der Ingeborg-Drewitz-B
 ibliothek
LOCATION:Ingeborg-Drewitz-Bibliothek (Das Schloß\, 3.OG) Grunewaldstr. 3  
 Berlin
ORGANIZER;CN=Daniela von Treuenfels:MAILTO:treuenfels@stadtrand-nachrichten
 .de
DTSTART;TZID=Etc/GMT-2:20250507T183000
DTEND;TZID=Etc/GMT-2:20250507T193000
X-ALT-DESC;FMTTYPE=TEXT/HTML:Nazi-Raubkunst – geschätzte 600.000 Kunstwe
 rke wurden enteignet oder unter Zwang verkauft. Marthes Großmutter besitz
 t Nazi-Raubkunst. Das behauptet Steve\, ein New Yorker Kunstdetektiv. Doch
  ist Steve vertrauenswürdig? Marthe begibt sich mit ihrem Freund Tom – 
 einem leidenschaftlichen Darknet-Aktivisten – auf die Suche nach der Wah
 rheit. Eines Tages wird Steves Leiche gefunden. Ist er einem Handel mit&amp;he
 llip\;
CATEGORIES:Literatur
URL;VALUE=URI:https://stadtrand-nachrichten.de/mc-events/lesung-spur-der-gi
 er-mit-vera-lohkamp-in-der-ingeborg-drewitz-bibliothek/?mc_id=221
END:VEVENT
END:VCALENDAR