BEGIN:VCALENDAR
VERSION:2.0
PRODID:spatie/icalendar-generator
DESCRIPTION:Veranstaltungen von StadtrandNachrichten
X-WR-CALDESC:Veranstaltungen von StadtrandNachrichten
REFRESH-INTERVAL;VALUE=DURATION:PT1440M
X-PUBLISHED-TTL:PT1440M
BEGIN:VTIMEZONE
TZID:Etc/GMT-2
BEGIN:STANDARD
DTSTART:20240203T183000Z
TZOFFSETFROM:+0200
TZOFFSETTO:+0200
END:STANDARD
END:VTIMEZONE
BEGIN:VTIMEZONE
TZID:UTC
BEGIN:STANDARD
DTSTART:20250725T083859Z
TZOFFSETFROM:+0000
TZOFFSETTO:+0000
END:STANDARD
END:VTIMEZONE
BEGIN:VEVENT
UID:24-21
DTSTAMP:20260421T083859Z
SUMMARY:Diskussionsrunde „Von Bienen bis zur Welt der Politik“
LOCATION:Stadtteilzentrum Marie-Li Bruno-Möhring-Str. 7-9  Berlin
ORGANIZER;CN=Daniela von Treuenfels:MAILTO:treuenfels@stadtrand-nachrichten
 .de
DTSTART;TZID=Etc/GMT-2:20241030T183000
DTEND;TZID=Etc/GMT-2:20241030T203000
X-ALT-DESC;FMTTYPE=TEXT/HTML:Lass uns reden: Über Demokratie und wie Du si
 e mitgestalten kannst Eine Redewendung behauptet\, Glück sei das einzige\
 , das sich verdoppelt\, wenn man es teilt. Im Stadtteilzentrum Steglitz e.
 V. sind wir anderer Ansicht: Auch der gemeinsame Austausch über Erfahrung
 en kann Potenziale verdoppeln und Synergie-Effekte schaffen. Für die näc
 hste Diskussionsrunde im Rahmen der Veranstaltungsreihe „Von Bienen&amp;hell
 ip\;
CATEGORIES:Beteiligung
URL;VALUE=URI:https://stadtrand-nachrichten.de/mc-events/diskussionsrunde-v
 on-bienen-bis-zur-welt-der-politik/?mc_id=24
END:VEVENT
END:VCALENDAR