BEGIN:VCALENDAR
VERSION:2.0
PRODID:spatie/icalendar-generator
DESCRIPTION:Veranstaltungen von StadtrandNachrichten
X-WR-CALDESC:Veranstaltungen von StadtrandNachrichten
REFRESH-INTERVAL;VALUE=DURATION:PT1440M
X-PUBLISHED-TTL:PT1440M
BEGIN:VTIMEZONE
TZID:Etc/GMT-2
BEGIN:STANDARD
DTSTART:20240825T150000Z
TZOFFSETFROM:+0200
TZOFFSETTO:+0200
END:STANDARD
END:VTIMEZONE
BEGIN:VTIMEZONE
TZID:UTC
BEGIN:STANDARD
DTSTART:20250724T085154Z
TZOFFSETFROM:+0000
TZOFFSETTO:+0000
END:STANDARD
END:VTIMEZONE
BEGIN:VEVENT
UID:328-208
DTSTAMP:20260420T085154Z
SUMMARY:Yoga für Frauen
LOCATION:Familienzentrum Mercator-Grundschule Mercatorweg 8-10  Berlin
ORGANIZER;CN=Daniela von Treuenfels:MAILTO:treuenfels@stadtrand-nachrichten
 .de
RRULE:FREQ=WEEKLY;UNTIL=20250717T000000Z
DTSTART;TZID=Etc/GMT-2:20250522T150000
DTEND;TZID=Etc/GMT-2:20250522T160000
X-ALT-DESC;FMTTYPE=TEXT/HTML:Yoga für Frauen - Wir üben sanfte Körperüb
 ungen\, Atemtechniken und Meditationen. Der Kurs ist sowohl für Anfänger
  als auch für Fortgeschrittene.
CATEGORIES:Sport &amp; Bewegung
URL;VALUE=URI:https://stadtrand-nachrichten.de/mc-events/yoga-fuer-frauen/?
 mc_id=328
END:VEVENT
END:VCALENDAR