BEGIN:VCALENDAR
VERSION:2.0
PRODID:spatie/icalendar-generator
DESCRIPTION:Veranstaltungen von StadtrandNachrichten
X-WR-CALDESC:Veranstaltungen von StadtrandNachrichten
REFRESH-INTERVAL;VALUE=DURATION:PT1440M
X-PUBLISHED-TTL:PT1440M
BEGIN:VTIMEZONE
TZID:Etc/GMT-2
BEGIN:STANDARD
DTSTART:20240826T153000Z
TZOFFSETFROM:+0200
TZOFFSETTO:+0200
END:STANDARD
END:VTIMEZONE
BEGIN:VTIMEZONE
TZID:UTC
BEGIN:STANDARD
DTSTART:20250723T143535Z
TZOFFSETFROM:+0000
TZOFFSETTO:+0000
END:STANDARD
END:VTIMEZONE
BEGIN:VEVENT
UID:346-209
DTSTAMP:20260419T143535Z
SUMMARY:Handarbeitskurs für Familien
LOCATION:Familienzentrum Mercator-Grundschule Mercatorweg 8-10 Berlin
ORGANIZER;CN=Daniela von Treuenfels:MAILTO:treuenfels@stadtrand-nachrichten
 .de
RRULE:FREQ=WEEKLY;UNTIL=20250718T000000Z
DTSTART;TZID=Etc/GMT-2:20250523T153000
DTEND;TZID=Etc/GMT-2:20250523T163000
X-ALT-DESC;FMTTYPE=TEXT/HTML:Dieser Kurs bietet nähbegeisterten Kindern un
 d Eltern die perfekte Gelegenheit\, ihre Kreativität auszuleben! In einer
  kleinen Gruppe von maximal 6 Familien gestaltet ihr unter persönlicher B
 etreuung eigene Nähprojekte. Dieser Kurs ist für Eltern und Kinder geme
 insam. Meldet euch an\, der Platz ist begrenzt!
CATEGORIES:Kinder &amp; Familie
URL;VALUE=URI:https://stadtrand-nachrichten.de/mc-events/handarbeitskurs-fu
 er-familien/?mc_id=346
END:VEVENT
END:VCALENDAR