BEGIN:VCALENDAR
VERSION:2.0
PRODID:spatie/icalendar-generator
DESCRIPTION:Veranstaltungen von StadtrandNachrichten
X-WR-CALDESC:Veranstaltungen von StadtrandNachrichten
REFRESH-INTERVAL;VALUE=DURATION:PT1440M
X-PUBLISHED-TTL:PT1440M
BEGIN:VTIMEZONE
TZID:Etc/GMT-2
BEGIN:STANDARD
DTSTART:20240713T180000Z
TZOFFSETFROM:+0200
TZOFFSETTO:+0200
END:STANDARD
END:VTIMEZONE
BEGIN:VTIMEZONE
TZID:UTC
BEGIN:STANDARD
DTSTART:20250726T105712Z
TZOFFSETFROM:+0000
TZOFFSETTO:+0000
END:STANDARD
END:VTIMEZONE
BEGIN:VEVENT
UID:383-220
DTSTAMP:20260422T105712Z
SUMMARY:Die öffentlichen Räume in unserem Kiez beleben (-Teil 2)!
LOCATION:Gutshaus Lichterfelde  Hindenburgdamm 28  Berlin Lichterfelde 1220
 3
ORGANIZER;CN=Daniela von Treuenfels:MAILTO:treuenfels@stadtrand-nachrichten
 .de
DTSTART;TZID=Etc/GMT-2:20250409T180000
DTEND;TZID=Etc/GMT-2:20250409T193000
X-ALT-DESC;FMTTYPE=TEXT/HTML:Da es in der letzten Sitzung viel Interesse un
 d Motivation gab\, möchten wir das Thema vom letzten Mal weiterführen: 
 „Die öffentlichen Räume in unserem Kiez beleben (-Teil 2)! Planung ein
 es Nachbarschafts-Straßenfests am 20. September\, Gartenprojekt am Gutsha
 us Lichterfelde\, nächste Schritte zur Verschönerung des Ludwig-Beck-Pla
 tz\, Verkehrsberuhigung am Hindenburgdamm“ Wir möchten den Raum nutzen\
 , um an den&amp;hellip\;
CATEGORIES:Beteiligung
URL;VALUE=URI:https://stadtrand-nachrichten.de/mc-events/die-oeffentlichen-
 raeume-in-unserem-kiez-beleben-teil-2/?mc_id=383
END:VEVENT
END:VCALENDAR