BEGIN:VCALENDAR
VERSION:2.0
PRODID:spatie/icalendar-generator
DESCRIPTION:Veranstaltungen von StadtrandNachrichten
X-WR-CALDESC:Veranstaltungen von StadtrandNachrichten
REFRESH-INTERVAL;VALUE=DURATION:PT1440M
X-PUBLISHED-TTL:PT1440M
BEGIN:VTIMEZONE
TZID:Etc/GMT-2
BEGIN:STANDARD
DTSTART:20240709T200000Z
TZOFFSETFROM:+0200
TZOFFSETTO:+0200
END:STANDARD
END:VTIMEZONE
BEGIN:VTIMEZONE
TZID:UTC
BEGIN:STANDARD
DTSTART:20250728T101646Z
TZOFFSETFROM:+0000
TZOFFSETTO:+0000
END:STANDARD
END:VTIMEZONE
BEGIN:VEVENT
UID:384-221
DTSTAMP:20260424T101646Z
SUMMARY:Ian Bruce\, Frank &amp;amp\; Kath
LOCATION:Petruskirche Oberhofer Platz  Berlin Deutschland
ORGANIZER;CN=Daniela von Treuenfels:MAILTO:treuenfels@stadtrand-nachrichten
 .de
DTSTART;TZID=Etc/GMT-2:20250405T200000
DTEND;TZID=Etc/GMT-2:20250405T210000
X-ALT-DESC;FMTTYPE=TEXT/HTML:Ian Bruce lässt sich nicht in eine Schublade 
 packen. Der Schotte bringt mit eindringlicher Stimme und Gitarre seine eig
 enen Gedanken zum Klingen\, erzählt in Musik gebrachte Geschichten und ve
 rmag auch in Songs aus seiner Heimat ganz neue Akzente zu setzen. Dazu bez
 aubert Katharina Bramkamp mit ihrem gefühlvollen Flötenspiel. Der facett
 enreiche Gesang von Ian\, der zwischen&amp;hellip\;
CATEGORIES:Bühne
URL;VALUE=URI:https://stadtrand-nachrichten.de/mc-events/ian-bruce-frank-ka
 th/?mc_id=384
END:VEVENT
END:VCALENDAR