BEGIN:VCALENDAR
VERSION:2.0
PRODID:spatie/icalendar-generator
DESCRIPTION:Veranstaltungen von StadtrandNachrichten
X-WR-CALDESC:Veranstaltungen von StadtrandNachrichten
REFRESH-INTERVAL;VALUE=DURATION:PT1440M
X-PUBLISHED-TTL:PT1440M
BEGIN:VTIMEZONE
TZID:Etc/GMT-2
BEGIN:STANDARD
DTSTART:20240713T200000Z
TZOFFSETFROM:+0200
TZOFFSETTO:+0200
END:STANDARD
END:VTIMEZONE
BEGIN:VTIMEZONE
TZID:UTC
BEGIN:STANDARD
DTSTART:20250725T121212Z
TZOFFSETFROM:+0000
TZOFFSETTO:+0000
END:STANDARD
END:VTIMEZONE
BEGIN:VEVENT
UID:385-222
DTSTAMP:20260421T121212Z
SUMMARY:Frank Muschalle Trio
LOCATION:Petruskirche Oberhofer Platz  Berlin Deutschland
ORGANIZER;CN=Daniela von Treuenfels:MAILTO:treuenfels@stadtrand-nachrichten
 .de
DTSTART;TZID=Etc/GMT-2:20250409T200000
DTEND;TZID=Etc/GMT-2:20250409T210000
X-ALT-DESC;FMTTYPE=TEXT/HTML:Das FRANK MUSCHALLE TRIO mit Frank Muschalle (
 Piano)\, Dirk Engelmeyer (Schlagzeug/Gesang) und Matthias Klüter (Kontrab
 aß) ist seit über 25 Jahren auf Tournee und spielte über 2000 Konzerte 
 in ganz Europa\, Paraguay\, Bolivien\, USA und Nordafrika. Einladungen zu 
 Konzerten wie dem \" Stars of Boogie-Woogie\"- Festival im Wiener Konzerth
 aus\, dem Festival \"Les Nuits des Jazz &amp;amp\;&amp;hellip\;
CATEGORIES:Bühne
URL;VALUE=URI:https://stadtrand-nachrichten.de/mc-events/frank-muschalle-tr
 io/?mc_id=385
END:VEVENT
END:VCALENDAR