BEGIN:VCALENDAR
VERSION:2.0
PRODID:spatie/icalendar-generator
DESCRIPTION:Veranstaltungen von StadtrandNachrichten
X-WR-CALDESC:Veranstaltungen von StadtrandNachrichten
REFRESH-INTERVAL;VALUE=DURATION:PT1440M
X-PUBLISHED-TTL:PT1440M
BEGIN:VTIMEZONE
TZID:Etc/GMT-2
BEGIN:STANDARD
DTSTART:20240704T190000Z
TZOFFSETFROM:+0200
TZOFFSETTO:+0200
END:STANDARD
END:VTIMEZONE
BEGIN:VTIMEZONE
TZID:UTC
BEGIN:STANDARD
DTSTART:20250729T131800Z
TZOFFSETFROM:+0000
TZOFFSETTO:+0000
END:STANDARD
END:VTIMEZONE
BEGIN:VEVENT
UID:389-226
DTSTAMP:20260425T131800Z
SUMMARY:\"Der Künstler hat ein Doppelleben\" - Eine literarisch-musikalisc
 he Soirée zum Geburtstag von Leo Borchard
LOCATION:Bali-Kino Teltower Damm 33  Berlin Deutschland
ORGANIZER;CN=Daniela von Treuenfels:MAILTO:treuenfels@stadtrand-nachrichten
 .de
DTSTART;TZID=Etc/GMT-2:20250331T190000
DTEND;TZID=Etc/GMT-2:20250331T200000
X-ALT-DESC;FMTTYPE=TEXT/HTML:Zum 126. Geburtstag von Leo Borchard veranstal
 tet die Leo-Borchard-Musikschule Steglitz-Zehlendorf eine Soirée mit musi
 kalischen und literarischen Beiträgen im Zusammenhang mit Borchards Leben
  und Wirken. Zu hören sind unter anderem Peter Tschaikowskys “Der Nussk
 nacker” und der 1. Satz aus seiner Symphonie Nr. 4 in f-Moll\, außerdem
  Alexander Glasunows “Chant du Ménestrel”. Das musikalische Programm 
 wird durch&amp;hellip\;
CATEGORIES:Literatur
URL;VALUE=URI:https://stadtrand-nachrichten.de/mc-events/der-kuenstler-hat-
 ein-doppelleben-eine-literarisch-musikalische-soiree-zum-geburtstag-von-le
 o-borchard/?mc_id=389
END:VEVENT
END:VCALENDAR