BEGIN:VCALENDAR
VERSION:2.0
PRODID:spatie/icalendar-generator
DESCRIPTION:Veranstaltungen von StadtrandNachrichten
X-WR-CALDESC:Veranstaltungen von StadtrandNachrichten
REFRESH-INTERVAL;VALUE=DURATION:PT1440M
X-PUBLISHED-TTL:PT1440M
BEGIN:VTIMEZONE
TZID:Etc/GMT-2
BEGIN:STANDARD
DTSTART:20240823T180000Z
TZOFFSETFROM:+0200
TZOFFSETTO:+0200
END:STANDARD
END:VTIMEZONE
BEGIN:VTIMEZONE
TZID:UTC
BEGIN:STANDARD
DTSTART:20250724T032210Z
TZOFFSETFROM:+0000
TZOFFSETTO:+0000
END:STANDARD
END:VTIMEZONE
BEGIN:VEVENT
UID:410-242
DTSTAMP:20260420T032210Z
SUMMARY:Lange Woche der Kiezgeschichte: Führung
LOCATION:
ORGANIZER;CN=Daniela von Treuenfels:MAILTO:treuenfels@stadtrand-nachrichten
 .de
DTSTART;TZID=Etc/GMT-2:20250520T180000
DTEND;TZID=Etc/GMT-2:20250520T190000
X-ALT-DESC;FMTTYPE=TEXT/HTML:80 Jahre Kriegsende: Giesensdorf und Lichterfe
 lde West Dienstag\, 20. Mai\, 18 Uhr Stadtführung mit Armin A. Woy Am 22.
  April 1945 erreichten die sowjetischen Truppen an der Osdorfer Straße de
 n Bezirk. Von hier aus kämpften sie sich zum Teltowkanal vor und erreicht
 en später die Kaserne der SS an der Finckensteinallee\, die von der Roten
  Armee&amp;hellip\;
CATEGORIES:Bildung
URL;VALUE=URI:https://stadtrand-nachrichten.de/mc-events/lange-woche-der-ki
 ezgeschichte-fuehrung/?mc_id=410
END:VEVENT
END:VCALENDAR