BEGIN:VCALENDAR
VERSION:2.0
PRODID:spatie/icalendar-generator
DESCRIPTION:Veranstaltungen von StadtrandNachrichten
X-WR-CALDESC:Veranstaltungen von StadtrandNachrichten
REFRESH-INTERVAL;VALUE=DURATION:PT1440M
X-PUBLISHED-TTL:PT1440M
BEGIN:VTIMEZONE
TZID:Etc/GMT-2
BEGIN:STANDARD
DTSTART:20240803T200000Z
TZOFFSETFROM:+0200
TZOFFSETTO:+0200
END:STANDARD
END:VTIMEZONE
BEGIN:VTIMEZONE
TZID:UTC
BEGIN:STANDARD
DTSTART:20250723T122304Z
TZOFFSETFROM:+0000
TZOFFSETTO:+0000
END:STANDARD
END:VTIMEZONE
BEGIN:VEVENT
UID:418-250
DTSTAMP:20260419T122304Z
SUMMARY:Tanz in den Mai
LOCATION:Petruskirche Oberhofer Platz  Berlin Deutschland
ORGANIZER;CN=Daniela von Treuenfels:MAILTO:treuenfels@stadtrand-nachrichten
 .de
DTSTART;TZID=Etc/GMT-2:20250430T200000
DTEND;TZID=Etc/GMT-2:20250501T210000
X-ALT-DESC;FMTTYPE=TEXT/HTML:Party in der Petruskirche - Einladung zum Tanz
 en in den Wonnemonat! Erleben Sie die Petruskirche in ganz besonderer Atmo
 sphäre\, wenn sich der Kirchraum in eine Tanzfläche verwandelt. Bereits 
 2023 haben wir mit vielen gutgelaunten Gästen ein rauschendes Fest gefeie
 rt - auf vielfachen Wunsch kommt es in diesem Jahr zur Wiederauflage: Ein 
 erfahrener DJ spielt Hits&amp;hellip\;
CATEGORIES:General
URL;VALUE=URI:https://stadtrand-nachrichten.de/mc-events/tanz-in-den-mai/?m
 c_id=418
END:VEVENT
END:VCALENDAR