BEGIN:VCALENDAR
VERSION:2.0
PRODID:spatie/icalendar-generator
DESCRIPTION:Veranstaltungen von StadtrandNachrichten
X-WR-CALDESC:Veranstaltungen von StadtrandNachrichten
REFRESH-INTERVAL;VALUE=DURATION:PT1440M
X-PUBLISHED-TTL:PT1440M
BEGIN:VTIMEZONE
TZID:Etc/GMT-2
BEGIN:STANDARD
DTSTART:20240810T140000Z
TZOFFSETFROM:+0200
TZOFFSETTO:+0200
END:STANDARD
END:VTIMEZONE
BEGIN:VTIMEZONE
TZID:UTC
BEGIN:STANDARD
DTSTART:20250723T174426Z
TZOFFSETFROM:+0000
TZOFFSETTO:+0000
END:STANDARD
END:VTIMEZONE
BEGIN:VEVENT
UID:424-256
DTSTAMP:20260419T174426Z
SUMMARY:Aktionstag bunt verbindet: Menschenrechtskette für Inklusion
LOCATION:Rathaus Zehlendorf Kirchstraße 1/3  Berlin
ORGANIZER;CN=Daniela von Treuenfels:MAILTO:treuenfels@stadtrand-nachrichten
 .de
DTSTART;TZID=Etc/GMT-2:20250507T140000
DTEND;TZID=Etc/GMT-2:20250507T170000
X-ALT-DESC;FMTTYPE=TEXT/HTML:Anlässlich des „Europäischen Protesttages 
 zur Gleichstellung von Menschen mit Behinderungen“ ist beim diesjährige
 n „Aktionstag BUNT VERBINDET“ von 14:00 bis 17:00 Uhr eine Menschenrec
 htskette rund um das Rathaus Zehlendorf geplant. Unter dem Motto „INKLUS
 ION – mehr denn je – JETZT!“ setzen die Teilnehmenden ein Zeichen f
 ür Inklusion\, Barrierefreiheit und gleiche Rechte für Menschen mit Behi
 nderungen. Treff-&amp;hellip\;
CATEGORIES:Beteiligung,  Draußen,  Politik
URL;VALUE=URI:https://stadtrand-nachrichten.de/mc-events/aktionstag-bunt-ve
 rbindet-menschenrechtskette-fuer-inklusion/?mc_id=424
END:VEVENT
END:VCALENDAR