BEGIN:VCALENDAR
VERSION:2.0
PRODID:spatie/icalendar-generator
DESCRIPTION:Veranstaltungen von StadtrandNachrichten
X-WR-CALDESC:Veranstaltungen von StadtrandNachrichten
REFRESH-INTERVAL;VALUE=DURATION:PT1440M
X-PUBLISHED-TTL:PT1440M
BEGIN:VTIMEZONE
TZID:Etc/GMT-2
BEGIN:STANDARD
DTSTART:20240809T150000Z
TZOFFSETFROM:+0200
TZOFFSETTO:+0200
END:STANDARD
END:VTIMEZONE
BEGIN:VTIMEZONE
TZID:UTC
BEGIN:STANDARD
DTSTART:20250725T102439Z
TZOFFSETFROM:+0000
TZOFFSETTO:+0000
END:STANDARD
END:VTIMEZONE
BEGIN:VEVENT
UID:437-266
DTSTAMP:20260421T102439Z
SUMMARY:Kulturangebot: Vielfalt Leben – Griechenland – vom Kommunikatio
 nszentrum am Ostpreußendamm
LOCATION:Kommunikationszentrum am Ostpreußendamm Ostpreußendamm 52  Berli
 n  12207
ORGANIZER;CN=Daniela von Treuenfels:MAILTO:treuenfels@stadtrand-nachrichten
 .de
DTSTART;TZID=Etc/GMT-2:20250506T150000
DTEND;TZID=Etc/GMT-2:20250506T160000
X-ALT-DESC;FMTTYPE=TEXT/HTML:Besuch der Hellenischen Gemeinde zu Berlin e. 
 V.\, wo ein buntes Programm geboten wird. Es wird gemeinsam gekocht\, geta
 nzt und es gibt eine kleine Einführung in die griechische Sprache. Eine g
 emeinsame Anfahrt mit der BVG vom Kommunikationszentrum ist um 14:30 Uhr m
 öglich. Alternativ: Treffpunkt bei der Hellenischen Gemeinde zu Berlin e.
  V. in der Mittelstraße&amp;hellip\;
CATEGORIES:Senioren
URL;VALUE=URI:https://stadtrand-nachrichten.de/mc-events/kulturangebot-viel
 falt-leben-griechenland-vom-kommunikationszentrum-am-ostpreussendamm/?mc_i
 d=437
END:VEVENT
END:VCALENDAR