BEGIN:VCALENDAR
VERSION:2.0
PRODID:spatie/icalendar-generator
DESCRIPTION:Veranstaltungen von StadtrandNachrichten
X-WR-CALDESC:Veranstaltungen von StadtrandNachrichten
REFRESH-INTERVAL;VALUE=DURATION:PT1440M
X-PUBLISHED-TTL:PT1440M
BEGIN:VTIMEZONE
TZID:Etc/GMT-2
BEGIN:STANDARD
DTSTART:20240728T160000Z
TZOFFSETFROM:+0200
TZOFFSETTO:+0200
END:STANDARD
END:VTIMEZONE
BEGIN:VTIMEZONE
TZID:UTC
BEGIN:STANDARD
DTSTART:20250725T113109Z
TZOFFSETFROM:+0000
TZOFFSETTO:+0000
END:STANDARD
END:VTIMEZONE
BEGIN:VEVENT
UID:445-274
DTSTAMP:20260421T113109Z
SUMMARY:SchlossKultur – Kultur im Schloss in der Ingeborg-Drewitz-Bibliot
 hek
LOCATION:Ingeborg-Drewitz-Bibliothek (Das Schloß\, 3.OG) Grunewaldstr. 3  
 Berlin
ORGANIZER;CN=Daniela von Treuenfels:MAILTO:treuenfels@stadtrand-nachrichten
 .de
DTSTART;TZID=Etc/GMT-2:20250424T160000
DTEND;TZID=Etc/GMT-2:20250424T190000
X-ALT-DESC;FMTTYPE=TEXT/HTML:Fachbereichsübergreifende Veranstaltungsreihe
  an jedem letzten Donnerstag im Monat von 16 bis 19 Uhr: Die Einrichtungen
  Stadtbibliothek\, Leo-Borchard-Musikschule\, Fachbereich Kultur\, Jugendk
 unstschule und Volkshochschule Steglitz-Zehlendorf bieten gemeinsam spanne
 nde Veranstaltungen in den Räumen der Ingeborg-Drewitz-Bibliothek an. Fü
 r Kunst- und Kulturinteressierte aller Altersgruppen.
CATEGORIES:Bildung,  Kinder &amp; Familie,  Kunst,  Literatur
URL;VALUE=URI:https://stadtrand-nachrichten.de/mc-events/schlosskultur-kult
 ur-im-schloss-in-der-ingeborg-drewitz-bibliothek/?mc_id=445
END:VEVENT
END:VCALENDAR