BEGIN:VCALENDAR
VERSION:2.0
PRODID:spatie/icalendar-generator
DESCRIPTION:Veranstaltungen von StadtrandNachrichten
X-WR-CALDESC:Veranstaltungen von StadtrandNachrichten
REFRESH-INTERVAL;VALUE=DURATION:PT1440M
X-PUBLISHED-TTL:PT1440M
BEGIN:VTIMEZONE
TZID:Etc/GMT-2
BEGIN:STANDARD
DTSTART:20240824T110000Z
TZOFFSETFROM:+0200
TZOFFSETTO:+0200
END:STANDARD
END:VTIMEZONE
BEGIN:VTIMEZONE
TZID:UTC
BEGIN:STANDARD
DTSTART:20250725T093957Z
TZOFFSETFROM:+0000
TZOFFSETTO:+0000
END:STANDARD
END:VTIMEZONE
BEGIN:VEVENT
UID:467-296
DTSTAMP:20260421T093957Z
SUMMARY:Nachbarschaftlicher Spaziergang durch das BENN-Gebiet
LOCATION:
ORGANIZER;CN=Daniela von Treuenfels:MAILTO:treuenfels@stadtrand-nachrichten
 .de
DTSTART;TZID=Etc/GMT-2:20250521T110000
DTEND;TZID=Etc/GMT-2:20250521T120000
X-ALT-DESC;FMTTYPE=TEXT/HTML:BENN – Berlin Entwickelt Neue Nachbarschafte
 n rund um die Gemeinschaftsunterkunft für Geflüchtete in der Bäkestraß
 e. Der Spaziergang informiert über die Arbeit und die Angebote von BENN s
 owie dem Gutshaus Lichterfelde. Die Tour erkundet das BENN-Gebiet und sein
 e besonderen Orte und dabei sind Mitmenschen mit und ohne Fluchterfahrung 
 gefragt: Was macht die Nachbarschaft besonders aus? Wo&amp;hellip\;
CATEGORIES:Beteiligung,  Sport &amp; Bewegung
URL;VALUE=URI:https://stadtrand-nachrichten.de/mc-events/nachbarschaftliche
 r-spaziergang-durch-das-benn-gebiet/?mc_id=467
END:VEVENT
END:VCALENDAR