BEGIN:VCALENDAR
VERSION:2.0
PRODID:spatie/icalendar-generator
DESCRIPTION:Veranstaltungen von StadtrandNachrichten
X-WR-CALDESC:Veranstaltungen von StadtrandNachrichten
REFRESH-INTERVAL;VALUE=DURATION:PT1440M
X-PUBLISHED-TTL:PT1440M
BEGIN:VTIMEZONE
TZID:Etc/GMT-2
BEGIN:STANDARD
DTSTART:20240806T130000Z
TZOFFSETFROM:+0200
TZOFFSETTO:+0200
END:STANDARD
END:VTIMEZONE
BEGIN:VTIMEZONE
TZID:UTC
BEGIN:STANDARD
DTSTART:20250726T155843Z
TZOFFSETFROM:+0000
TZOFFSETTO:+0000
END:STANDARD
END:VTIMEZONE
BEGIN:VEVENT
UID:479-306
DTSTAMP:20260422T155843Z
SUMMARY:Menschenturmbau im Garten des Museums Europäischer Kulturen – 5.
  Internationale Diada Castellera
LOCATION:Museum Europäischer Kulturen  Arnimallee 25  Berlin   14195
ORGANIZER;CN=Daniela von Treuenfels:MAILTO:treuenfels@stadtrand-nachrichten
 .de
DTSTART;TZID=Etc/GMT-2:20250503T130000
DTEND;TZID=Etc/GMT-2:20250503T180000
X-ALT-DESC;FMTTYPE=TEXT/HTML:In Katalonien werden sie als „Castells“ be
 zeichnet und haben eine jahrhundertealte Tradition: menschliche Türme\, b
 is zu zehn Etagen hoch. Anlässlich der 21. Europäischen Kulturtage\, die
  in diesem Jahr der spanischen Region Katalonien gewidmet sind\, ist das 5
 . Internationale Treffen der Castellers am 3. Mai 2025 zu Gast am Museum E
 uropäischer Kulturen (MEK). Das MEK begrüßt&amp;hellip\;
CATEGORIES:Draußen,  Bildung
URL;VALUE=URI:https://stadtrand-nachrichten.de/mc-events/menschenturmbau-im
 -garten-des-museums-europaeischer-kulturen-5-internationale-diada-castelle
 ra/?mc_id=479
END:VEVENT
END:VCALENDAR