BEGIN:VCALENDAR
VERSION:2.0
PRODID:spatie/icalendar-generator
DESCRIPTION:Veranstaltungen von StadtrandNachrichten
X-WR-CALDESC:Veranstaltungen von StadtrandNachrichten
REFRESH-INTERVAL;VALUE=DURATION:PT1440M
X-PUBLISHED-TTL:PT1440M
BEGIN:VTIMEZONE
TZID:Etc/GMT-2
BEGIN:STANDARD
DTSTART:20240822T170000Z
TZOFFSETFROM:+0200
TZOFFSETTO:+0200
END:STANDARD
END:VTIMEZONE
BEGIN:VTIMEZONE
TZID:UTC
BEGIN:STANDARD
DTSTART:20250723T162104Z
TZOFFSETFROM:+0000
TZOFFSETTO:+0000
END:STANDARD
END:VTIMEZONE
BEGIN:VEVENT
UID:512-323
DTSTAMP:20260419T162104Z
SUMMARY:HipHop-Workshop für Jugendliche: Find your Groove!
LOCATION:Ingeborg-Drewitz-Bibliothek (Das Schloß\, 3.OG) Grunewaldstr. 3  
 Berlin
ORGANIZER;CN=Daniela von Treuenfels:MAILTO:treuenfels@stadtrand-nachrichten
 .de
DTSTART;TZID=Etc/GMT-2:20250519T170000
DTEND;TZID=Etc/GMT-2:20250519T180000
X-ALT-DESC;FMTTYPE=TEXT/HTML:Die Ingeborg-Drewitz-Bibliothek bietet in Koop
 eration mit Mobiles Wohnzimmer e.V. am 12.05.\, 19.05.\, 16.06. und 30.06.
 2025\, jeweils ab 17 Uhr\, einen HipHop-Workshop für Jugendliche an. Hier
  können die Teilnehmenden ihren StepUp-Traum leben und in den insgesamt v
 ier Terminen lernen\, wie man Hip-Hop tanzt. Die Workshopleiterinnen Julia
  und Laura vom Mobilen Wohnzimmer bringen die Grundschritte bei und&amp;hellip
 \;
CATEGORIES:Jugend
URL;VALUE=URI:https://stadtrand-nachrichten.de/mc-events/hiphop-workshop-fu
 er-jugendliche-find-your-groove-2/?mc_id=512
END:VEVENT
END:VCALENDAR