BEGIN:VCALENDAR
VERSION:2.0
PRODID:spatie/icalendar-generator
DESCRIPTION:Veranstaltungen von StadtrandNachrichten
X-WR-CALDESC:Veranstaltungen von StadtrandNachrichten
REFRESH-INTERVAL;VALUE=DURATION:PT1440M
X-PUBLISHED-TTL:PT1440M
BEGIN:VTIMEZONE
TZID:Etc/GMT-2
BEGIN:STANDARD
DTSTART:20240822T183000Z
TZOFFSETFROM:+0200
TZOFFSETTO:+0200
END:STANDARD
END:VTIMEZONE
BEGIN:VTIMEZONE
TZID:UTC
BEGIN:STANDARD
DTSTART:20250725T153307Z
TZOFFSETFROM:+0000
TZOFFSETTO:+0000
END:STANDARD
END:VTIMEZONE
BEGIN:VEVENT
UID:522-333
DTSTAMP:20260421T153307Z
SUMMARY:Diskussion und Networking: \"Wirtschaftsmotor Innovation - Wege in 
 die Zukunft\"
LOCATION:Gutshaus Steglitz Schloßstraße 28  Berlin  12165
ORGANIZER;CN=Daniela von Treuenfels:MAILTO:treuenfels@stadtrand-nachrichten
 .de
DTSTART;TZID=Etc/GMT-2:20250519T183000
DTEND;TZID=Etc/GMT-2:20250519T193000
X-ALT-DESC;FMTTYPE=TEXT/HTML:Der Regionalinkubator Berlin Südwest lädt zu
 m 30. RegioTalk ein. Das Thema lautet: \"Wirtschaftsmotor Innovation - Weg
 e in die Zukunft\". Für kleine und mittlere Unternehmen ist Innovationsf
 ähigkeit ein zentraler Erfolgsfaktor für eine nachhaltige Wettbewerbsfä
 higkeit - auch am Standort Steglitz-Zehlendorf. Doch es gilt den Trendbegr
 iff \"Innovation\" mit konkretem Handeln zu füllen. Nachhaltige Innovatio
 nsprozesse entstehen dort\, wo kontinuierlicher&amp;hellip\;
CATEGORIES:General
URL;VALUE=URI:https://stadtrand-nachrichten.de/mc-events/diskussion-und-net
 working-wirtschaftsmotor-innovation-wege-in-die-zukunft/?mc_id=522
END:VEVENT
END:VCALENDAR