BEGIN:VCALENDAR
VERSION:2.0
PRODID:spatie/icalendar-generator
DESCRIPTION:Veranstaltungen von StadtrandNachrichten
X-WR-CALDESC:Veranstaltungen von StadtrandNachrichten
REFRESH-INTERVAL;VALUE=DURATION:PT1440M
X-PUBLISHED-TTL:PT1440M
BEGIN:VTIMEZONE
TZID:Etc/GMT-2
BEGIN:STANDARD
DTSTART:20240831T150000Z
TZOFFSETFROM:+0200
TZOFFSETTO:+0200
END:STANDARD
END:VTIMEZONE
BEGIN:VTIMEZONE
TZID:UTC
BEGIN:STANDARD
DTSTART:20250725T154038Z
TZOFFSETFROM:+0000
TZOFFSETTO:+0000
END:STANDARD
END:VTIMEZONE
BEGIN:VEVENT
UID:571-370
DTSTAMP:20260421T154038Z
SUMMARY:Musikalischer Nachmittag mit \"The Hermlins\"
LOCATION:Hans-Söhnker-Haus Selerweg 18-22  Berlin  12169
ORGANIZER;CN=Daniela von Treuenfels:MAILTO:treuenfels@stadtrand-nachrichten
 .de
DTSTART;TZID=Etc/GMT-2:20250528T150000
DTEND;TZID=Etc/GMT-2:20250528T160000
X-ALT-DESC;FMTTYPE=TEXT/HTML:Andrej Hermlin tritt gemeinsam mit den Sänger
 n seiner Band THE SWINGIN‘ HERMLINS – seinen Kindern Rachel und David 
 Hermlin in kleiner Besetzung auf und spielt amerikanische Swing-Musik aus 
 den dreißiger Jahren\, darunter Kompositionen von George Gershwin und and
 eren berühmten amerikanischen Komponisten. Keep swingin‘! Einlass: 14:0
 0 Uhr Beginn: 15:00 Uhr Kosten: 7\,00 €\, zzgl. Kaffeegedeck 3\,00&amp;helli
 p\;
CATEGORIES:Senioren
URL;VALUE=URI:https://stadtrand-nachrichten.de/mc-events/musikalischer-nach
 mittag-mit-the-hermlins/?mc_id=571
END:VEVENT
END:VCALENDAR