BEGIN:VCALENDAR
VERSION:2.0
PRODID:spatie/icalendar-generator
DESCRIPTION:Veranstaltungen von StadtrandNachrichten
X-WR-CALDESC:Veranstaltungen von StadtrandNachrichten
REFRESH-INTERVAL;VALUE=DURATION:PT1440M
X-PUBLISHED-TTL:PT1440M
BEGIN:VTIMEZONE
TZID:Etc/GMT-2
BEGIN:STANDARD
DTSTART:20240825T190000Z
TZOFFSETFROM:+0200
TZOFFSETTO:+0200
END:STANDARD
END:VTIMEZONE
BEGIN:VTIMEZONE
TZID:UTC
BEGIN:STANDARD
DTSTART:20250724T095507Z
TZOFFSETFROM:+0000
TZOFFSETTO:+0000
END:STANDARD
END:VTIMEZONE
BEGIN:VEVENT
UID:573-372
DTSTAMP:20260420T095507Z
SUMMARY:Demo gegenüber der „Staatsreparatur“
LOCATION:Jungfernstieg Ecke Bahnhofsstraße  Berlin  12207
ORGANIZER;CN=Daniela von Treuenfels:MAILTO:treuenfels@stadtrand-nachrichten
 .de
DTSTART;TZID=Etc/GMT-2:20250522T190000
DTEND;TZID=Etc/GMT-2:20250522T200000
X-ALT-DESC;FMTTYPE=TEXT/HTML:Klare Kante gegen rechte Netzwerke und ihre He
 tze! Steglitz-Zehlendorf steht zusammen - für Demokratie\, Vielfalt und M
 enschenrechte. Die Demonstration findet statt am Jungferstieg/Ecke Bahnhof
 straße. S-Bhf Licherfelde Ost
CATEGORIES:Politik
URL;VALUE=URI:https://stadtrand-nachrichten.de/mc-events/demo-gegenueber-de
 r-staatsreparatur/?mc_id=573
END:VEVENT
END:VCALENDAR