BEGIN:VCALENDAR
VERSION:2.0
PRODID:spatie/icalendar-generator
DESCRIPTION:Veranstaltungen von StadtrandNachrichten
X-WR-CALDESC:Veranstaltungen von StadtrandNachrichten
REFRESH-INTERVAL;VALUE=DURATION:PT1440M
X-PUBLISHED-TTL:PT1440M
BEGIN:VTIMEZONE
TZID:Etc/GMT-2
BEGIN:STANDARD
DTSTART:20250708T200000Z
TZOFFSETFROM:+0200
TZOFFSETTO:+0200
END:STANDARD
END:VTIMEZONE
BEGIN:VTIMEZONE
TZID:UTC
BEGIN:STANDARD
DTSTART:20250725T085430Z
TZOFFSETFROM:+0000
TZOFFSETTO:+0000
END:STANDARD
END:VTIMEZONE
BEGIN:VEVENT
UID:1567-566
DTSTAMP:20260421T085430Z
SUMMARY:Kabarett mit Ulli Lohr: Ein Kellner packt aus
LOCATION:Zimmertheater Steglitz Bornstraße 17  Berlin Steglitz 12163
ORGANIZER;CN=Daniela von Treuenfels:MAILTO:treuenfels@stadtrand-nachrichten
 .de
DTSTART;TZID=Etc/GMT-2:20260404T200000
DTEND;TZID=Etc/GMT-2:20260404T210000
X-ALT-DESC;FMTTYPE=TEXT/HTML:Viele arbeitslose Schauspieler müssen sich al
 s Kellner durchschlagen. Ein Kellner\, der jedoch auf die Bühne geht\, is
 t eine Rarität. Der Schauspieler\, Sänger und Moderator Ulli Lohr schlü
 pft leichtfüßig in diese Rolle und serviert seinem Publikum sentimentale
  Satire an ironischen Chansons und mit karamellisierten Pointen gespickter
  Comedy. Ulli Lohr enthüllt beim Öffnen eines kräftigen “Cabaret-Sauv
 ignons” die&amp;hellip\;
CATEGORIES:Bühne
URL;VALUE=URI:https://stadtrand-nachrichten.de/mc-events/kabarett-mit-ulli-
 lohr-ein-kellner-packt-aus-4/?mc_id=1567
END:VEVENT
END:VCALENDAR