BEGIN:VCALENDAR
VERSION:2.0
PRODID:spatie/icalendar-generator
DESCRIPTION:Veranstaltungen von StadtrandNachrichten
X-WR-CALDESC:Veranstaltungen von StadtrandNachrichten
REFRESH-INTERVAL;VALUE=DURATION:PT1440M
X-PUBLISHED-TTL:PT1440M
BEGIN:VTIMEZONE
TZID:Etc/GMT-2
BEGIN:STANDARD
DTSTART:20250801T183000Z
TZOFFSETFROM:+0200
TZOFFSETTO:+0200
END:STANDARD
END:VTIMEZONE
BEGIN:VTIMEZONE
TZID:UTC
BEGIN:STANDARD
DTSTART:20250725T085441Z
TZOFFSETFROM:+0000
TZOFFSETTO:+0000
END:STANDARD
END:VTIMEZONE
BEGIN:VEVENT
UID:1859-1264
DTSTAMP:20260421T085441Z
SUMMARY:Diskussion: „Spannungsfeld Hindenburgdamm – Was braucht es für
  ein Comeback?“
LOCATION:Villa Kult Hindenburgdamm 12  Berlin Lichterfelde 12203
ORGANIZER;CN=Daniela von Treuenfels:MAILTO:treuenfels@stadtrand-nachrichten
 .de
DTSTART;TZID=Etc/GMT-2:20260428T183000
DTEND;TZID=Etc/GMT-2:20260428T193000
X-ALT-DESC;FMTTYPE=TEXT/HTML:Der Regionalinkubator Berlin Südwest lädt ei
 n zum Austausch. Das Thema lautet: „Spannungsfeld Hindenburgdamm – Zwi
 schen Angebotsvielfalt und Konsumverhalten – Was braucht es für ein Com
 eback?“. Die Einkaufsstraße Hindenburgdamm in Steglitz steht derzeit ex
 emplarisch für die Herausforderungen vieler urbaner Geschäftsstraßen. B
 austellen und infrastrukturelle Maßnahmen beeinträchtigen seit geraumer 
 Zeit die Erreichbarkeit und damit auch die Besucherfrequenz. Mit&amp;hellip\;
CATEGORIES:Wirtschaft,  Beteiligung,  Politik
URL;VALUE=URI:https://stadtrand-nachrichten.de/mc-events/diskussion-spannun
 gsfeld-hindenburgdamm-was-braucht-es-fuer-ein-comeback/?mc_id=1859
END:VEVENT
END:VCALENDAR